BEGIN:VCALENDAR
VERSION:2.0
PRODID:-//Sportive.com - ECPv6.15.17.1//NONSGML v1.0//EN
CALSCALE:GREGORIAN
METHOD:PUBLISH
X-WR-CALNAME:Sportive.com
X-ORIGINAL-URL:https://sportive.com
X-WR-CALDESC:Events for Sportive.com
REFRESH-INTERVAL;VALUE=DURATION:PT1H
X-Robots-Tag:noindex
X-PUBLISHED-TTL:PT1H
BEGIN:VTIMEZONE
TZID:Europe/London
BEGIN:DAYLIGHT
TZOFFSETFROM:+0000
TZOFFSETTO:+0100
TZNAME:BST
DTSTART:20250330T010000
END:DAYLIGHT
BEGIN:STANDARD
TZOFFSETFROM:+0100
TZOFFSETTO:+0000
TZNAME:GMT
DTSTART:20251026T010000
END:STANDARD
BEGIN:DAYLIGHT
TZOFFSETFROM:+0000
TZOFFSETTO:+0100
TZNAME:BST
DTSTART:20260329T010000
END:DAYLIGHT
BEGIN:STANDARD
TZOFFSETFROM:+0100
TZOFFSETTO:+0000
TZNAME:GMT
DTSTART:20261025T010000
END:STANDARD
BEGIN:DAYLIGHT
TZOFFSETFROM:+0000
TZOFFSETTO:+0100
TZNAME:BST
DTSTART:20270328T010000
END:DAYLIGHT
BEGIN:STANDARD
TZOFFSETFROM:+0100
TZOFFSETTO:+0000
TZNAME:GMT
DTSTART:20271031T010000
END:STANDARD
END:VTIMEZONE
BEGIN:VEVENT
DTSTART;TZID=Europe/London:20260802T083000
DTEND;TZID=Europe/London:20260802T170000
DTSTAMP:20260422T091739
CREATED:20260225T123309Z
LAST-MODIFIED:20260225T124002Z
UID:10000147-1785659400-1785690000@sportive.com
SUMMARY:Kilberry Loop Sportive 2026
DESCRIPTION:The Kilberry Loop is an annual sportive run by Mid Argyll Tri & Cycle Club\, based on a favourite route of the club members. \n\n\n\nRiders will set off from the Isthmus\, Tarbert\, heading through the village and north on the A83 before turning left at the junction with the B8024 on to a single track road.  \n\n\n\nThis is where the fun starts with a steady climb for about 2km before the descent into Achahoish and the beginning of wonderful scenery as the loop continues along the shores of Loch Caolisport.  \n\n\n\nThe picturesque town of Tarbert  hosts the Kilberry Loop Sportive.\n\n\n\nBreathtaking views over to Jura\, Islay and Gigha demand a quick stop for a photograph. There will be a feed station at approximately the half way mark.  \n\n\n\nThe route continues through Kilberry\, heading east\, with some short sharp climbs and sweeping descents\, before following the coast of West Loch Tarbert north up past the Tarbert Golf Club\, reaching the A83\, turning left\, back to Tarbert and the finish.  \n\n\n\nOn the day:\n\n\n\n\nRegistration: from 7:30am\n\n\n\nRide start: 8:30am \n\n\n\n\n\n\n\n64 KM \n\n\n\n\n\n \n\n\n\n\n\n \n\n\n\n\n\n \n\n\n\n\n\n\n\n\n\n\nEvent Website\n\n\n\n\n\n\n\n\n\n\n\n \n\n\n	Related
URL:https://sportive.com/event/kilberry-loop-sportive-2026/
LOCATION:The Gather\, Campbeltown Road\, Tarbert\, Argyll\, PA29 6SX\, United Kingdom
CATEGORIES:Road
ATTACH;FMTTYPE=image/jpeg:https://sportive.com/wp-content/uploads/2026/02/kilberry-loop-sportive-logo-os.jpg
GEO:55.8620502;-5.4193826
X-APPLE-STRUCTURED-LOCATION;VALUE=URI;X-ADDRESS=The Gather Campbeltown Road Tarbert Argyll PA29 6SX United Kingdom;X-APPLE-RADIUS=500;X-TITLE=Campbeltown Road:geo:-5.4193826,55.8620502
END:VEVENT
END:VCALENDAR